BEGIN:VCALENDAR
VERSION:2.0
PRODID:spatie/icalendar-generator
DESCRIPTION:Events from St. Margaret&amp;#039\;s Episcopal Church
X-WR-CALDESC:Events from St. Margaret&amp;#039\;s Episcopal Church
REFRESH-INTERVAL;VALUE=DURATION:PT1440M
X-PUBLISHED-TTL:PT1440M
BEGIN:VTIMEZONE
TZID:America/New_York
BEGIN:STANDARD
DTSTART:20251102T020000Z
TZOFFSETFROM:-0400
TZOFFSETTO:-0500
END:STANDARD
BEGIN:DAYLIGHT
DTSTART:20260308T020000Z
TZOFFSETFROM:-0500
TZOFFSETTO:-0400
END:DAYLIGHT
END:VTIMEZONE
BEGIN:VTIMEZONE
TZID:UTC
BEGIN:STANDARD
DTSTART:20250724T104807Z
TZOFFSETFROM:+0000
TZOFFSETTO:+0000
END:STANDARD
END:VTIMEZONE
BEGIN:VEVENT
UID:879-52
DTSTAMP:20260420T104807Z
SUMMARY:Senior College: Explore Your Communities
LOCATION:
ORGANIZER;CN=Ananda Johnson:MAILTO:anandaj@mail.com
RRULE:FREQ=WEEKLY;UNTIL=20260514T000000Z
DTSTART;TZID=America/New_York:20260423T130000
DTEND;TZID=America/New_York:20260423T150000
X-ALT-DESC;FMTTYPE=TEXT/HTML:Explore Your Communities in Depth Instructor: 
 Michael Evans Thursdays\, April 16 - May 7\, 1 - 3 PM\, 4 sessions
CATEGORIES:General
URL;VALUE=URI:https://stmargaretsbelfast.org/mc-events/senior-college-explo
 re-your-communities/?mc_id=879
METHOD:PUBLISH
END:VEVENT
END:VCALENDAR